BEGIN:VCALENDAR
VERSION:2.0
PRODID:-//Blind Sports Australia - ECPv4.7.1//NONSGML v1.0//EN
CALSCALE:GREGORIAN
METHOD:PUBLISH
X-WR-CALNAME:Blind Sports Australia
X-ORIGINAL-URL:https://blindsportsaustralia.com.au
X-WR-CALDESC:Events for Blind Sports Australia
BEGIN:VEVENT
DTSTART;VALUE=DATE:20180716
DTEND;VALUE=DATE:20180718
DTSTAMP:20190228T211730
CREATED:20180529T061733Z
LAST-MODIFIED:20180529T061733Z
UID:1718-1531699200-1531871999@blindsportsaustralia.com.au
SUMMARY:2018 Queensland Blind Golf Open
DESCRIPTION:
URL:https://blindsportsaustralia.com.au/event/2018-queensland-blind-golf-open/
LOCATION:Virginia Golf Club\, Brisbane\, Queensland\, Australia
END:VEVENT
END:VCALENDAR