BEGIN:VCALENDAR
VERSION:2.0
PRODID:-//Blind Sports Australia - ECPv4.7.1//NONSGML v1.0//EN
CALSCALE:GREGORIAN
METHOD:PUBLISH
X-WR-CALNAME:Blind Sports Australia
X-ORIGINAL-URL:https://blindsportsaustralia.com.au
X-WR-CALDESC:Events for Blind Sports Australia
BEGIN:VEVENT
DTSTART;TZID=UTC+0:20180814T140000
DTEND;TZID=UTC+0:20180814T163000
DTSTAMP:20190228T210519
CREATED:20180713T044758Z
LAST-MODIFIED:20180713T044758Z
UID:1841-1534255200-1534264200@blindsportsaustralia.com.au
SUMMARY:Adult Swimming Program - Victoria
DESCRIPTION:Blind Sports & Recreation Victoria (BSRV) in conjunction with Sports Education Development Australia (SEDA) is conducting a swimming program at Hawthorn Aquatic and Leisure Centre.\nOne on one support is provided in the water by SEDA College students. \nYou will be encouraged to develop your skill at a pace that is comfortable to you. \nThe SEDA swimming students will provide assistance to those learning to swim\, through to those with well-developed skills.\nDates: The program will be held on Tuesday’s throughout August/September\no August 14\no August 21\no August 28\no September 11\no September 18 \nTime: 2pm – 2.45pm \nCost: $5 per session \nVenue: Hawthorn Aquatics & Leisure Centre\, 1 Grace Street Hawthorn \nIf travelling by tram\, take tram number 16 – tramp stop 74\nIf travelling by train\, the nearest station is Glenferrie Railway Station\n(Assistance to the venue can be provided from Glenferrie Railway Station or the tram stop – please advise when registering if required) \nADULT BLIND AND VISION IMPAIRED\nSWIMMING PROGRAM\n(Blind Sports & Recreation Victoria in conjunction with Sports Education Development Association)\nFor further information or to register your interest in this program\, contact:\nJohn Groom on 9557 1716 or 0400 993 059 or\nEmail: jrgroom@westnet.com.au or info@blindsports.org.au \n
URL:https://blindsportsaustralia.com.au/event/adult-swimming-program-victoria/
LOCATION:Hawthorn Aquatics and Leisure Centre\, 1 Grace Street\, Hawthorn\, Victoria
ORGANIZER;CN="Blind%20Sports%20and%20Recreation%20Victoria":MAILTO:info@blindsports.org.au
END:VEVENT
END:VCALENDAR