BEGIN:VCALENDAR
VERSION:2.0
PRODID:-//Blind Sports Australia - ECPv4.7.1//NONSGML v1.0//EN
CALSCALE:GREGORIAN
METHOD:PUBLISH
X-WR-CALNAME:Blind Sports Australia
X-ORIGINAL-URL:https://blindsportsaustralia.com.au
X-WR-CALDESC:Events for Blind Sports Australia
BEGIN:VEVENT
DTSTART;TZID=UTC+0:20180819T133000
DTEND;TZID=UTC+0:20180819T153000
DTSTAMP:20190228T210538
CREATED:20180529T062423Z
LAST-MODIFIED:20180529T062423Z
UID:1733-1534685400-1534692600@blindsportsaustralia.com.au
SUMMARY:Australian Blind Football National Training Centre - Melbourne
DESCRIPTION: \nThe Melbourne training centre will be hosted by the Melbourne Blind Football Club. \nSessions are for people who are blind or vision impaired (all classifications) who are interested in playing blind football at a grassroots level or with the national squad. \nPlayers will be coached by national squad coaches and players. \nFor Ages 14 and up. \n
URL:https://blindsportsaustralia.com.au/event/australian-blind-football-national-training-centre-melbourne-3/
LOCATION:North Melbourne Recreational Reserve\, 204-206 Arden Street\, North Melbourne\, Victoria\, Australia
END:VEVENT
END:VCALENDAR