BEGIN:VCALENDAR
VERSION:2.0
PRODID:-//Blind Sports Australia - ECPv4.7.1//NONSGML v1.0//EN
CALSCALE:GREGORIAN
METHOD:PUBLISH
X-WR-CALNAME:Blind Sports Australia
X-ORIGINAL-URL:https://blindsportsaustralia.com.au
X-WR-CALDESC:Events for Blind Sports Australia
BEGIN:VEVENT
DTSTART;VALUE=DATE:20181004
DTEND;VALUE=DATE:20181008
DTSTAMP:20190228T211027
CREATED:20180605T052149Z
LAST-MODIFIED:20180605T052149Z
UID:1774-1538611200-1538956799@blindsportsaustralia.com.au
SUMMARY:Australian Goalball Championships
DESCRIPTION:More details to come. \n
URL:https://blindsportsaustralia.com.au/event/australian-goalball-championships/
LOCATION:Perth\, Perth\, Western Australia
END:VEVENT
END:VCALENDAR