BEGIN:VCALENDAR
VERSION:2.0
PRODID:-//Blind Sports Australia - ECPv4.7.1//NONSGML v1.0//EN
CALSCALE:GREGORIAN
METHOD:PUBLISH
X-WR-CALNAME:Blind Sports Australia
X-ORIGINAL-URL:https://blindsportsaustralia.com.au
X-WR-CALDESC:Events for Blind Sports Australia
BEGIN:VEVENT
DTSTART;VALUE=DATE:20180617
DTEND;VALUE=DATE:20180618
DTSTAMP:20190228T211102
CREATED:20180605T052559Z
LAST-MODIFIED:20180605T052559Z
UID:1780-1529193600-1529279999@blindsportsaustralia.com.au
SUMMARY:Blind Golf Victoria - Long Handicap Day
DESCRIPTION:
URL:https://blindsportsaustralia.com.au/event/blind-golf-victoria-long-handicap-day/
LOCATION:Malvern Valley Golf Course\, 1 Golfers Drive\, Malvern East\, Victoria\, 3145
ORGANIZER;CN="Blind%20Golf%20Victoria":MAILTO:secbga@gmail.com
END:VEVENT
END:VCALENDAR