BEGIN:VCALENDAR
VERSION:2.0
PRODID:-//Blind Sports Australia - ECPv4.7.1//NONSGML v1.0//EN
CALSCALE:GREGORIAN
METHOD:PUBLISH
X-WR-CALNAME:Blind Sports Australia
X-ORIGINAL-URL:https://blindsportsaustralia.com.au
X-WR-CALDESC:Events for Blind Sports Australia
BEGIN:VEVENT
DTSTART;VALUE=DATE:20180727
DTEND;VALUE=DATE:20180728
DTSTAMP:20190228T211806
CREATED:20180713T043757Z
LAST-MODIFIED:20180713T043757Z
UID:1831-1532649600-1532735999@blindsportsaustralia.com.au
SUMMARY:Blind Tennis recommences in Victoria
DESCRIPTION:Blind Tennis Program \nRecommences 27 July.  Adult and junior program available.  \nContact info@blindsports.org.au or phone 9822 8876 for further information \n
URL:https://blindsportsaustralia.com.au/event/blind-tennis-recommences-in-victoria/
LOCATION:Melbourne\, Melbourne\, Victoria
ORGANIZER;CN="Blind%20Sports%20and%20Recreation%20Victoria":MAILTO:info@blindsports.org.au
END:VEVENT
END:VCALENDAR