BEGIN:VCALENDAR
VERSION:2.0
PRODID:-//Blind Sports Australia - ECPv4.7.1//NONSGML v1.0//EN
CALSCALE:GREGORIAN
METHOD:PUBLISH
X-WR-CALNAME:Blind Sports Australia
X-ORIGINAL-URL:https://blindsportsaustralia.com.au
X-WR-CALDESC:Events for Blind Sports Australia
BEGIN:VEVENT
DTSTART;VALUE=DATE:20180721
DTEND;VALUE=DATE:20180723
DTSTAMP:20190228T211748
CREATED:20180713T041620Z
LAST-MODIFIED:20180713T041620Z
UID:1805-1532131200-1532303999@blindsportsaustralia.com.au
SUMMARY:National Blind Football Camp
DESCRIPTION:The next national Australian Blind Football training camp is taking place on July 21-22 in Sydney\, in preparation for upcoming overseas tournaments for both B1 and B2/B3 players. \n
URL:https://blindsportsaustralia.com.au/event/national-blind-football-camp/
LOCATION:Valentine Sports Park\, Sydney\, Australia
ORGANIZER;CN="Australian%20Blind%20Football":MAILTO:football@blindsportsaustralia.com.au
END:VEVENT
END:VCALENDAR