BEGIN:VCALENDAR
VERSION:2.0
PRODID:-//Blind Sports Australia - ECPv4.7.1//NONSGML v1.0//EN
CALSCALE:GREGORIAN
METHOD:PUBLISH
X-WR-CALNAME:Blind Sports Australia
X-ORIGINAL-URL:https://blindsportsaustralia.com.au
X-WR-CALDESC:Events for Blind Sports Australia
BEGIN:VEVENT
DTSTART;VALUE=DATE:20180903
DTEND;VALUE=DATE:20180905
DTSTAMP:20190228T210846
CREATED:20180713T045325Z
LAST-MODIFIED:20180713T045325Z
UID:1846-1535932800-1536105599@blindsportsaustralia.com.au
SUMMARY:WA Blind Golf Masters
DESCRIPTION:
URL:https://blindsportsaustralia.com.au/event/wa-blind-golf-masters/
LOCATION:Collier Park\, Perth\, Western Australia\, Australia
ORGANIZER;CN="WA%20Blind%20Golf":MAILTO:secwabga@gmail.com
END:VEVENT
END:VCALENDAR