BEGIN:VCALENDAR
VERSION:2.0
PRODID:-//Blind Sports Australia - ECPv6.15.16.1//NONSGML v1.0//EN
CALSCALE:GREGORIAN
METHOD:PUBLISH
X-WR-CALNAME:Blind Sports Australia
X-ORIGINAL-URL:https://blindsportsaustralia.com.au
X-WR-CALDESC:Events for Blind Sports Australia
REFRESH-INTERVAL;VALUE=DURATION:PT1H
X-Robots-Tag:noindex
X-PUBLISHED-TTL:PT1H
BEGIN:VTIMEZONE
TZID:Australia/Melbourne
BEGIN:STANDARD
TZOFFSETFROM:+1100
TZOFFSETTO:+1000
TZNAME:AEST
DTSTART:20250405T160000
END:STANDARD
BEGIN:DAYLIGHT
TZOFFSETFROM:+1000
TZOFFSETTO:+1100
TZNAME:AEDT
DTSTART:20251004T160000
END:DAYLIGHT
BEGIN:STANDARD
TZOFFSETFROM:+1100
TZOFFSETTO:+1000
TZNAME:AEST
DTSTART:20260404T160000
END:STANDARD
BEGIN:DAYLIGHT
TZOFFSETFROM:+1000
TZOFFSETTO:+1100
TZNAME:AEDT
DTSTART:20261003T160000
END:DAYLIGHT
BEGIN:STANDARD
TZOFFSETFROM:+1100
TZOFFSETTO:+1000
TZNAME:AEST
DTSTART:20270403T160000
END:STANDARD
BEGIN:DAYLIGHT
TZOFFSETFROM:+1000
TZOFFSETTO:+1100
TZNAME:AEDT
DTSTART:20271002T160000
END:DAYLIGHT
END:VTIMEZONE
BEGIN:VEVENT
DTSTART;VALUE=DATE:20260112
DTEND;VALUE=DATE:20260118
DTSTAMP:20260425T213504
CREATED:20240110T235451Z
LAST-MODIFIED:20260226T020152Z
UID:8463-1768176000-1768694399@blindsportsaustralia.com.au
SUMMARY:2026 National Cricket Inclusion Championships
DESCRIPTION:
URL:https://blindsportsaustralia.com.au/event/2026-national-cricket-inclusion-championships/
LOCATION:Western Australia
END:VEVENT
BEGIN:VEVENT
DTSTART;VALUE=DATE:20260131
DTEND;VALUE=DATE:20260202
DTSTAMP:20260425T213504
CREATED:20260225T023048Z
LAST-MODIFIED:20260226T015846Z
UID:9782-1769817600-1769990399@blindsportsaustralia.com.au
SUMMARY:AO26 Blind & Low Vision Tennis Showdown
DESCRIPTION:
URL:https://blindsportsaustralia.com.au/event/ao26-blind-low-vision-showdown/
LOCATION:Melbourne Park\, VIC\, Australia
CATEGORIES:International
ORGANIZER;CN="Jack Crispin":MAILTO:blindtennis@tennis.com.au
END:VEVENT
BEGIN:VEVENT
DTSTART;VALUE=DATE:20260202
DTEND;VALUE=DATE:20260204
DTSTAMP:20260425T213504
CREATED:20260225T023106Z
LAST-MODIFIED:20260226T015833Z
UID:9794-1769990400-1770163199@blindsportsaustralia.com.au
SUMMARY:Tasmanian Open | Blind Golf
DESCRIPTION:
URL:https://blindsportsaustralia.com.au/event/tasmanian-open/
LOCATION:Kingston Golf Club\, TAS\, Australia
END:VEVENT
BEGIN:VEVENT
DTSTART;VALUE=DATE:20260306
DTEND;VALUE=DATE:20260309
DTSTAMP:20260425T213504
CREATED:20260225T023048Z
LAST-MODIFIED:20260226T015800Z
UID:9783-1772755200-1773014399@blindsportsaustralia.com.au
SUMMARY:2026 SA BLV Tennis Open
DESCRIPTION:
URL:https://blindsportsaustralia.com.au/event/2026-sa-blv-open/
LOCATION:The Drive\, SA\, Australia
CATEGORIES:Signature
ORGANIZER;CN="Jack Crispin":MAILTO:blindtennis@tennis.com.au
END:VEVENT
BEGIN:VEVENT
DTSTART;VALUE=DATE:20260323
DTEND;VALUE=DATE:20260325
DTSTAMP:20260425T213504
CREATED:20260225T023107Z
LAST-MODIFIED:20260225T023107Z
UID:9795-1774224000-1774396799@blindsportsaustralia.com.au
SUMMARY:Blind Golf Victoria Masters
DESCRIPTION:
URL:https://blindsportsaustralia.com.au/event/blind-golf-victoria-masters/
LOCATION:Rosebud Country Club\, VIC\, Australia
END:VEVENT
BEGIN:VEVENT
DTSTART;VALUE=DATE:20260326
DTEND;VALUE=DATE:20260328
DTSTAMP:20260425T213504
CREATED:20260225T023107Z
LAST-MODIFIED:20260225T023107Z
UID:9796-1774483200-1774655999@blindsportsaustralia.com.au
SUMMARY:Blind Golf Victoria & RCC Championship
DESCRIPTION:
URL:https://blindsportsaustralia.com.au/event/blind-golf-victoria-rcc-championship/
LOCATION:Rosebud Country Club\, VIC\, Australia
END:VEVENT
BEGIN:VEVENT
DTSTART;VALUE=DATE:20260411
DTEND;VALUE=DATE:20260413
DTSTAMP:20260425T213504
CREATED:20260225T023049Z
LAST-MODIFIED:20260312T001821Z
UID:9784-1775865600-1776038399@blindsportsaustralia.com.au
SUMMARY:2026 Ballarat BLV Tennis Open
DESCRIPTION:
URL:https://blindsportsaustralia.com.au/event/2026-ballarat-blv-open/
LOCATION:Ballarat Tennis Centre\, VIC\, Australia
CATEGORIES:Community
ORGANIZER;CN="Geoff":MAILTO:geoff@tennisballarat.com.au
END:VEVENT
BEGIN:VEVENT
DTSTART;VALUE=DATE:20260412
DTEND;VALUE=DATE:20260415
DTSTAMP:20260425T213504
CREATED:20260225T023121Z
LAST-MODIFIED:20260226T015721Z
UID:9797-1775952000-1776211199@blindsportsaustralia.com.au
SUMMARY:Young Interstate Blind Golf Challenge (No OOM points)
DESCRIPTION:
URL:https://blindsportsaustralia.com.au/event/young-interstate-challenge-no-oom-points/
LOCATION:Young Golf Club\, NSW\, Australia
END:VEVENT
BEGIN:VEVENT
DTSTART;VALUE=DATE:20260418
DTEND;VALUE=DATE:20260420
DTSTAMP:20260425T213504
CREATED:20260225T023049Z
LAST-MODIFIED:20260312T002646Z
UID:9785-1776470400-1776643199@blindsportsaustralia.com.au
SUMMARY:2026 VIC BLV Tennis Open
DESCRIPTION:
URL:https://blindsportsaustralia.com.au/event/2026-vic-blv-open/
LOCATION:National Tennis Centre\, VIC\, Australia
CATEGORIES:Signature
ORGANIZER;CN="Adam Watson":MAILTO:tournamentsvic@tennis.com.au
END:VEVENT
BEGIN:VEVENT
DTSTART;VALUE=DATE:20260504
DTEND;VALUE=DATE:20260506
DTSTAMP:20260425T213504
CREATED:20260225T023121Z
LAST-MODIFIED:20260226T015632Z
UID:9798-1777852800-1778025599@blindsportsaustralia.com.au
SUMMARY:South Australian Blind Golf Open
DESCRIPTION:
URL:https://blindsportsaustralia.com.au/event/south-australian-open/
LOCATION:Westward Ho Golf Club\, SA\, Australia
END:VEVENT
BEGIN:VEVENT
DTSTART;VALUE=DATE:20260507
DTEND;VALUE=DATE:20260509
DTSTAMP:20260425T213504
CREATED:20260225T023121Z
LAST-MODIFIED:20260226T015616Z
UID:9799-1778112000-1778284799@blindsportsaustralia.com.au
SUMMARY:National Stableford | Blind Golf
DESCRIPTION:
URL:https://blindsportsaustralia.com.au/event/national-stableford/
LOCATION:Westward Ho Golf Club\, SA\, Australia
END:VEVENT
BEGIN:VEVENT
DTSTART;VALUE=DATE:20260508
DTEND;VALUE=DATE:20260511
DTSTAMP:20260425T213504
CREATED:20260225T023049Z
LAST-MODIFIED:20260226T015555Z
UID:9786-1778198400-1778457599@blindsportsaustralia.com.au
SUMMARY:2026 QLD BLV Tennis Open
DESCRIPTION:
URL:https://blindsportsaustralia.com.au/event/2026-qld-blv-open/
LOCATION:Queensland Tennis Centre\, QLD\, Australia
CATEGORIES:Signature
ORGANIZER;CN="Jennifer Johnson":MAILTO:tournamentsqld@tennis.com.au
END:VEVENT
BEGIN:VEVENT
DTSTART;VALUE=DATE:20260513
DTEND;VALUE=DATE:20260519
DTSTAMP:20260425T213504
CREATED:20260226T020939Z
LAST-MODIFIED:20260226T020939Z
UID:9833-1778630400-1779148799@blindsportsaustralia.com.au
SUMMARY:ABBA National Bowls Championships
DESCRIPTION:Australia’s best Blind and Vision Impaired bowlers will compete at the ABBA National Championships at Tweed Heads Bowling Club\, from 13–18 May 2026.
URL:https://blindsportsaustralia.com.au/event/abba-national-bowls-championships/
LOCATION:Club Tweed NSW\, Wharf Street\, Corner Florence Street\, Tweed Heads\, NSW\, 2485\, Australia
ORGANIZER;CN="Australian Blind Bowlers Association":MAILTO:abbaenquiry@gmail.com
END:VEVENT
BEGIN:VEVENT
DTSTART;VALUE=DATE:20260516
DTEND;VALUE=DATE:20260518
DTSTAMP:20260425T213504
CREATED:20260225T023051Z
LAST-MODIFIED:20260226T015535Z
UID:9787-1778889600-1779062399@blindsportsaustralia.com.au
SUMMARY:2026 Tasmanian All Abilities Tennis Open
DESCRIPTION:
URL:https://blindsportsaustralia.com.au/event/2026-tasmanian-all-abilities-open/
LOCATION:Tennis World Launceston\, TAS\, Australia
CATEGORIES:Signature
ORGANIZER;CN="Phoebe Davis":MAILTO:phoebe.davis@tennis.com.au
END:VEVENT
BEGIN:VEVENT
DTSTART;VALUE=DATE:20260603
DTEND;VALUE=DATE:20260614
DTSTAMP:20260425T213504
CREATED:20260225T023106Z
LAST-MODIFIED:20260226T015507Z
UID:9793-1780444800-1781395199@blindsportsaustralia.com.au
SUMMARY:National Disability Tenpin Bowling Championship
DESCRIPTION:
URL:https://blindsportsaustralia.com.au/event/national-disability-tenpin-bowling-championship-for-persons-with-disability-national-disability-championship/
LOCATION:Suncity Tenpin\, Alexandra Headlands\, Sunshine Coast\, Qld\, QLD\, Australia
CATEGORIES:National
END:VEVENT
BEGIN:VEVENT
DTSTART;VALUE=DATE:20260606
DTEND;VALUE=DATE:20260608
DTSTAMP:20260425T213504
CREATED:20260225T023051Z
LAST-MODIFIED:20260226T015427Z
UID:9788-1780704000-1780876799@blindsportsaustralia.com.au
SUMMARY:2026 NSW BLV Tennis Open
DESCRIPTION:
URL:https://blindsportsaustralia.com.au/event/2026-nsw-blv-open/
LOCATION:NSW
CATEGORIES:Signature
ORGANIZER;CN="Allira Smith-Connor":MAILTO:nswtournaments@tennis.com.au
END:VEVENT
BEGIN:VEVENT
DTSTART;VALUE=DATE:20260710
DTEND;VALUE=DATE:20260713
DTSTAMP:20260425T213504
CREATED:20260225T023051Z
LAST-MODIFIED:20260225T023051Z
UID:9789-1783641600-1783900799@blindsportsaustralia.com.au
SUMMARY:2026 Australian BLV Tennis Championships
DESCRIPTION:
URL:https://blindsportsaustralia.com.au/event/2026-australian-blv-tennis-championships/
LOCATION:National Tennis Centre\, VIC\, Australia
CATEGORIES:National
ORGANIZER;CN="Ben Dew":MAILTO:blindtennis@tennis.com.au
END:VEVENT
BEGIN:VEVENT
DTSTART;VALUE=DATE:20260803
DTEND;VALUE=DATE:20260805
DTSTAMP:20260425T213504
CREATED:20260225T023121Z
LAST-MODIFIED:20260226T015346Z
UID:9800-1785715200-1785887999@blindsportsaustralia.com.au
SUMMARY:Queensland Open | Blind Golf (TBC)
DESCRIPTION:
URL:https://blindsportsaustralia.com.au/event/queensland-open-tbc/
LOCATION:Mackay\, QLD\, Australia
END:VEVENT
BEGIN:VEVENT
DTSTART;VALUE=DATE:20260806
DTEND;VALUE=DATE:20260808
DTSTAMP:20260425T213504
CREATED:20260225T023122Z
LAST-MODIFIED:20260226T015313Z
UID:9801-1785974400-1786147199@blindsportsaustralia.com.au
SUMMARY:Blind Golf Australia Classic (TBC)
DESCRIPTION:
URL:https://blindsportsaustralia.com.au/event/bga-classic-tbc/
LOCATION:Mackay\, QLD\, Australia
END:VEVENT
BEGIN:VEVENT
DTSTART;VALUE=DATE:20260822
DTEND;VALUE=DATE:20260824
DTSTAMP:20260425T213504
CREATED:20260225T023051Z
LAST-MODIFIED:20260226T015240Z
UID:9790-1787356800-1787529599@blindsportsaustralia.com.au
SUMMARY:2026 ACT All Abilities Tennis Open
DESCRIPTION:
URL:https://blindsportsaustralia.com.au/event/2026-act-all-abilities-open/
LOCATION:Canberra Tennis Centre\, ACT\, Australia
CATEGORIES:Signature
ORGANIZER;CN="Skye Davis":MAILTO:acttournaments@tennis.com.au
END:VEVENT
BEGIN:VEVENT
DTSTART;VALUE=DATE:20260914
DTEND;VALUE=DATE:20260916
DTSTAMP:20260425T213504
CREATED:20260225T023136Z
LAST-MODIFIED:20260226T015205Z
UID:9802-1789344000-1789516799@blindsportsaustralia.com.au
SUMMARY:WA Open | Blind Golf
DESCRIPTION:
URL:https://blindsportsaustralia.com.au/event/wa-open/
LOCATION:Whaleback Golf Club\, WA\, Australia
END:VEVENT
BEGIN:VEVENT
DTSTART;VALUE=DATE:20260917
DTEND;VALUE=DATE:20260919
DTSTAMP:20260425T213504
CREATED:20260225T023136Z
LAST-MODIFIED:20260226T015146Z
UID:9803-1789603200-1789775999@blindsportsaustralia.com.au
SUMMARY:WA Blind & Inclusion Golf
DESCRIPTION:
URL:https://blindsportsaustralia.com.au/event/wa-blind-inclusion/
LOCATION:Whaleback Golf Club\, WA\, Australia
END:VEVENT
BEGIN:VEVENT
DTSTART;VALUE=DATE:20260919
DTEND;VALUE=DATE:20260921
DTSTAMP:20260425T213504
CREATED:20260225T023051Z
LAST-MODIFIED:20260226T015107Z
UID:9791-1789776000-1789948799@blindsportsaustralia.com.au
SUMMARY:2026 WA BLV Tennis Open
DESCRIPTION:
URL:https://blindsportsaustralia.com.au/event/2026-wa-blv-open/
LOCATION:Kingsway Indoor Stadium\, WA\, Australia
CATEGORIES:Signature
ORGANIZER;CN="Brad Ladyman":MAILTO:bradley.ladyman@tennis.com.au
END:VEVENT
BEGIN:VEVENT
DTSTART;VALUE=DATE:20261116
DTEND;VALUE=DATE:20261118
DTSTAMP:20260425T213504
CREATED:20260225T023136Z
LAST-MODIFIED:20260226T015038Z
UID:9804-1794787200-1794959999@blindsportsaustralia.com.au
SUMMARY:NSW Open | Blind Golf
DESCRIPTION:
URL:https://blindsportsaustralia.com.au/event/nsw-open/
LOCATION:Cabramatta Golf Club\, NSW\, Australia
END:VEVENT
BEGIN:VEVENT
DTSTART;VALUE=DATE:20261119
DTEND;VALUE=DATE:20261121
DTSTAMP:20260425T213504
CREATED:20260225T023136Z
LAST-MODIFIED:20260226T015008Z
UID:9805-1795046400-1795219199@blindsportsaustralia.com.au
SUMMARY:Australian Open | Blind Golf
DESCRIPTION:
URL:https://blindsportsaustralia.com.au/event/australian-open/
LOCATION:Cabramatta Golf Club\, NSW\, Australia
END:VEVENT
BEGIN:VEVENT
DTSTART;VALUE=DATE:20261204
DTEND;VALUE=DATE:20261207
DTSTAMP:20260425T213504
CREATED:20260225T023106Z
LAST-MODIFIED:20260225T023106Z
UID:9792-1796342400-1796601599@blindsportsaustralia.com.au
SUMMARY:2026 Peter Smith Open
DESCRIPTION:
URL:https://blindsportsaustralia.com.au/event/2026-peter-smith-open/
LOCATION:The Drive & Next Gen Memorial Drive\, SA\, Australia
CATEGORIES:Signature
ORGANIZER;CN="Brad Poole":MAILTO:bradley.pool@tennis.com.au
END:VEVENT
END:VCALENDAR