BEGIN:VCALENDAR
VERSION:2.0
PRODID:-//Blind Sports Australia - ECPv6.15.16.1//NONSGML v1.0//EN
CALSCALE:GREGORIAN
METHOD:PUBLISH
X-WR-CALNAME:Blind Sports Australia
X-ORIGINAL-URL:https://blindsportsaustralia.com.au
X-WR-CALDESC:Events for Blind Sports Australia
REFRESH-INTERVAL;VALUE=DURATION:PT1H
X-Robots-Tag:noindex
X-PUBLISHED-TTL:PT1H
BEGIN:VTIMEZONE
TZID:Australia/Melbourne
BEGIN:STANDARD
TZOFFSETFROM:+1100
TZOFFSETTO:+1000
TZNAME:AEST
DTSTART:20250405T160000
END:STANDARD
BEGIN:DAYLIGHT
TZOFFSETFROM:+1000
TZOFFSETTO:+1100
TZNAME:AEDT
DTSTART:20251004T160000
END:DAYLIGHT
BEGIN:STANDARD
TZOFFSETFROM:+1100
TZOFFSETTO:+1000
TZNAME:AEST
DTSTART:20260404T160000
END:STANDARD
BEGIN:DAYLIGHT
TZOFFSETFROM:+1000
TZOFFSETTO:+1100
TZNAME:AEDT
DTSTART:20261003T160000
END:DAYLIGHT
BEGIN:STANDARD
TZOFFSETFROM:+1100
TZOFFSETTO:+1000
TZNAME:AEST
DTSTART:20270403T160000
END:STANDARD
BEGIN:DAYLIGHT
TZOFFSETFROM:+1000
TZOFFSETTO:+1100
TZNAME:AEDT
DTSTART:20271002T160000
END:DAYLIGHT
END:VTIMEZONE
BEGIN:VEVENT
DTSTART;VALUE=DATE:20260504
DTEND;VALUE=DATE:20260506
DTSTAMP:20260425T084443
CREATED:20260225T023121Z
LAST-MODIFIED:20260226T015632Z
UID:9798-1777852800-1778025599@blindsportsaustralia.com.au
SUMMARY:South Australian Blind Golf Open
DESCRIPTION:
URL:https://blindsportsaustralia.com.au/event/south-australian-open/
LOCATION:Westward Ho Golf Club\, SA\, Australia
END:VEVENT
BEGIN:VEVENT
DTSTART;VALUE=DATE:20260507
DTEND;VALUE=DATE:20260509
DTSTAMP:20260425T084443
CREATED:20260225T023121Z
LAST-MODIFIED:20260226T015616Z
UID:9799-1778112000-1778284799@blindsportsaustralia.com.au
SUMMARY:National Stableford | Blind Golf
DESCRIPTION:
URL:https://blindsportsaustralia.com.au/event/national-stableford/
LOCATION:Westward Ho Golf Club\, SA\, Australia
END:VEVENT
BEGIN:VEVENT
DTSTART;VALUE=DATE:20260508
DTEND;VALUE=DATE:20260511
DTSTAMP:20260425T084443
CREATED:20260225T023049Z
LAST-MODIFIED:20260226T015555Z
UID:9786-1778198400-1778457599@blindsportsaustralia.com.au
SUMMARY:2026 QLD BLV Tennis Open
DESCRIPTION:
URL:https://blindsportsaustralia.com.au/event/2026-qld-blv-open/
LOCATION:Queensland Tennis Centre\, QLD\, Australia
CATEGORIES:Signature
ORGANIZER;CN="Jennifer Johnson":MAILTO:tournamentsqld@tennis.com.au
END:VEVENT
BEGIN:VEVENT
DTSTART;VALUE=DATE:20260513
DTEND;VALUE=DATE:20260519
DTSTAMP:20260425T084443
CREATED:20260226T020939Z
LAST-MODIFIED:20260226T020939Z
UID:9833-1778630400-1779148799@blindsportsaustralia.com.au
SUMMARY:ABBA National Bowls Championships
DESCRIPTION:Australia’s best Blind and Vision Impaired bowlers will compete at the ABBA National Championships at Tweed Heads Bowling Club\, from 13–18 May 2026.
URL:https://blindsportsaustralia.com.au/event/abba-national-bowls-championships/
LOCATION:Club Tweed NSW\, Wharf Street\, Corner Florence Street\, Tweed Heads\, NSW\, 2485\, Australia
ORGANIZER;CN="Australian Blind Bowlers Association":MAILTO:abbaenquiry@gmail.com
END:VEVENT
BEGIN:VEVENT
DTSTART;VALUE=DATE:20260516
DTEND;VALUE=DATE:20260518
DTSTAMP:20260425T084443
CREATED:20260225T023051Z
LAST-MODIFIED:20260226T015535Z
UID:9787-1778889600-1779062399@blindsportsaustralia.com.au
SUMMARY:2026 Tasmanian All Abilities Tennis Open
DESCRIPTION:
URL:https://blindsportsaustralia.com.au/event/2026-tasmanian-all-abilities-open/
LOCATION:Tennis World Launceston\, TAS\, Australia
CATEGORIES:Signature
ORGANIZER;CN="Phoebe Davis":MAILTO:phoebe.davis@tennis.com.au
END:VEVENT
END:VCALENDAR